BEGIN:VCALENDAR
VERSION:2.0
PRODID:icalendar-ruby
CALSCALE:GREGORIAN
METHOD:PUBLISH
METHOD:REQUEST
BEGIN:VEVENT
DTSTAMP:20260424T063631Z
UID:30525
DTSTART:20260510T080000
DTEND:20260510T120000
CLASS:PUBLIC
CREATED:20260423T220250
DESCRIPTION:Beaujolais Bike Tour (8ème édition) à Monsols le dimanche 10
  mai (8ème édition) à Monsols
LAST-MODIFIED:20260423T221615
LOCATION:Monsols
ORGANIZER;CN=BEAUJOLAIS BIKE CLUB:mailto:beaujolaisbiketour@gmail.com
SEQUENCE:1777012591
STATUS:CONFIRMED
SUMMARY:Beaujolais Bike Tour (8ème édition) à Monsols le dimanche 10 mai
  (8ème édition) à Monsols
URL;VALUE=URI:https://vetete.com//beaujolais-bike-tour-8eme-edition-a-monso
 ls-le-dimanche-10-mai-8eme-edition-a-monsols-le-dimanche-10-mai-2026
END:VEVENT
END:VCALENDAR
