BEGIN:VCALENDAR
VERSION:2.0
PRODID:icalendar-ruby
CALSCALE:GREGORIAN
METHOD:PUBLISH
METHOD:REQUEST
BEGIN:VEVENT
DTSTAMP:20260420T062806Z
UID:30506
DTSTART:20260607T080000
DTEND:20260607T120000
CLASS:PUBLIC
CREATED:20260419T214349
DESCRIPTION:La 11ème Randonnée René Gérard VTT et marche à Cires-lès-
 Mello
LAST-MODIFIED:20260419T214707
LOCATION:Cires-lès-Mello
ORGANIZER;CN=Velo Club Cirois:mailto:veloclubcirois@gmail.com
SEQUENCE:1776666486
STATUS:CONFIRMED
SUMMARY:La 11ème Randonnée René Gérard VTT et marche à Cires-lès-Mell
 o
URL;VALUE=URI:https://vetete.com//la-11eme-randonnee-rene-gerard-vtt-et-mar
 che-a-cires-les-mello-le-dimanche-7-juin-2026
END:VEVENT
END:VCALENDAR
