BEGIN:VCALENDAR
VERSION:2.0
PRODID:icalendar-ruby
CALSCALE:GREGORIAN
METHOD:PUBLISH
METHOD:REQUEST
BEGIN:VEVENT
DTSTAMP:20260424T063144Z
UID:30526
DTSTART:20260607T080000
DTEND:20260607T120000
CLASS:PUBLIC
CREATED:20260423T225508
DESCRIPTION:La 14ème Rando VTT - La Tournée des Riders à Saulcet
LAST-MODIFIED:20260423T230436
LOCATION:Saulcet
ORGANIZER;CN=Asso Les Riders Bourbonnais:mailto:association@ridersbourbonna
 is.fr
SEQUENCE:1777012304
STATUS:CONFIRMED
SUMMARY:La 14ème Rando VTT - La Tournée des Riders à Saulcet
URL;VALUE=URI:https://vetete.com//la-14eme-rando-vtt-la-tournee-des-riders-
 a-saulcet-le-dimanche-7-juin-2026
END:VEVENT
END:VCALENDAR
