BEGIN:VCALENDAR
VERSION:2.0
PRODID:icalendar-ruby
CALSCALE:GREGORIAN
METHOD:PUBLISH
METHOD:REQUEST
BEGIN:VEVENT
DTSTAMP:20260423T073536Z
UID:30519
DTSTART:20260607T080000
DTEND:20260607T120000
CLASS:PUBLIC
CREATED:20260422T180715
DESCRIPTION:La 18ème Rando Frout Nature à Saint-Agathon
LAST-MODIFIED:20260422T181734
LOCATION:Saint-Agathon
ORGANIZER;CN=Comité d'animation de St Agathon:mailto:asvttdufrout@free.fr
SEQUENCE:1776929736
STATUS:CONFIRMED
SUMMARY:La 18ème Rando Frout Nature à Saint-Agathon
URL;VALUE=URI:https://vetete.com//la-18eme-rando-frout-nature-a-saint-agath
 on-le-dimanche-7-juin-2026
END:VEVENT
END:VCALENDAR
