BEGIN:VCALENDAR
VERSION:2.0
PRODID:icalendar-ruby
CALSCALE:GREGORIAN
METHOD:PUBLISH
METHOD:REQUEST
BEGIN:VEVENT
DTSTAMP:20260421T071950Z
UID:30514
DTSTART:20260510T073000
DTEND:20260510T113000
CLASS:PUBLIC
CREATED:20260420T222934
DESCRIPTION:La 19ème Randonnée La Cosnélienne à Courgenard
LAST-MODIFIED:20260420T224358
LOCATION:Courgenard
ORGANIZER;CN=Comité des fêtes et Municipalité de Courgenard. :mailto:loc
 teau.mick@orange.fr
SEQUENCE:1776755990
STATUS:CONFIRMED
SUMMARY:La 19ème Randonnée La Cosnélienne à Courgenard
URL;VALUE=URI:https://vetete.com//la-19eme-randonnee-la-cosnelienne-a-courg
 enard-le-dimanche-10-mai-2026
END:VEVENT
END:VCALENDAR
