BEGIN:VCALENDAR
VERSION:2.0
PRODID:icalendar-ruby
CALSCALE:GREGORIAN
METHOD:PUBLISH
METHOD:REQUEST
BEGIN:VEVENT
DTSTAMP:20260423T074614Z
UID:30521
DTSTART:20260830T080000
DTEND:20260830T120000
CLASS:PUBLIC
CREATED:20260422T210759
DESCRIPTION:La 23ème Pompéenne à Pompey
LAST-MODIFIED:20260422T212858
LOCATION:Pompey
ORGANIZER;CN=Association FLI:mailto:asso.flipompey@gmail.com
SEQUENCE:1776930374
STATUS:CONFIRMED
SUMMARY:La 23ème Pompéenne à Pompey
URL;VALUE=URI:https://vetete.com//la-23eme-pompeenne-a-pompey-le-dimanche-3
 0-aout-2026
END:VEVENT
END:VCALENDAR
