BEGIN:VCALENDAR
VERSION:2.0
PRODID:icalendar-ruby
CALSCALE:GREGORIAN
METHOD:PUBLISH
METHOD:REQUEST
BEGIN:VEVENT
DTSTAMP:20260424T063444Z
UID:30507
DTSTART:20260607T080000
DTEND:20260607T120000
CLASS:PUBLIC
CREATED:20260419T220839
DESCRIPTION:La 25ème RANDO RAID VTT DE LA CERE à Bretenoux
LAST-MODIFIED:20260423T225511
LOCATION:Bretenoux
ORGANIZER;CN=VTT DE LA CERE:mailto:bretenoux.vtt@gmail.com
SEQUENCE:1777012484
STATUS:CONFIRMED
SUMMARY:La 25ème RANDO RAID VTT DE LA CERE à Bretenoux
URL;VALUE=URI:https://vetete.com//la-25eme-rando-raid-vtt-de-la-cere-a-bret
 enoux-le-dimanche-7-juin-2026
END:VEVENT
END:VCALENDAR
