BEGIN:VCALENDAR
VERSION:2.0
PRODID:icalendar-ruby
CALSCALE:GREGORIAN
METHOD:PUBLISH
METHOD:REQUEST
BEGIN:VEVENT
DTSTAMP:20260421T074315Z
UID:30511
DTSTART:20260607T073000
DTEND:20260607T113000
CLASS:PUBLIC
CREATED:20260420T205642
DESCRIPTION:La 27ème Randonnée la TEILLÉENNE Cyclo - VTT - Pédestre à 
 Teillé
LAST-MODIFIED:20260420T211104
LOCATION:Teillé
ORGANIZER;CN=Cyclo vtt Club Teillé:mailto:ccteille@gmail.com
SEQUENCE:1776757395
STATUS:CONFIRMED
SUMMARY:La 27ème Randonnée la TEILLÉENNE Cyclo - VTT - Pédestre à Teil
 lé
URL;VALUE=URI:https://vetete.com//la-27eme-randonnee-la-teilleenne-cyclo-vt
 t-pedestre-a-teille-le-dimanche-7-juin-2026
END:VEVENT
END:VCALENDAR
