BEGIN:VCALENDAR
VERSION:2.0
PRODID:icalendar-ruby
CALSCALE:GREGORIAN
METHOD:PUBLISH
METHOD:REQUEST
BEGIN:VEVENT
DTSTAMP:20260422T073205Z
UID:30517
DTSTART:20260607T080000
DTEND:20260607T120000
CLASS:PUBLIC
CREATED:20260421T103210
DESCRIPTION:La 33ème VTT LYON OUEST à Messimy
LAST-MODIFIED:20260421T105200
LOCATION:Messimy
ORGANIZER;CN=VLO:mailto:contact@vttlyonouest.fr
SEQUENCE:1776843125
STATUS:CONFIRMED
SUMMARY:La 33ème VTT LYON OUEST à Messimy
URL;VALUE=URI:https://vetete.com//la-33eme-vtt-lyon-ouest-a-messimy-le-dima
 nche-7-juin-2026
END:VEVENT
END:VCALENDAR
