BEGIN:VCALENDAR
VERSION:2.0
PRODID:icalendar-ruby
CALSCALE:GREGORIAN
METHOD:PUBLISH
METHOD:REQUEST
BEGIN:VEVENT
DTSTAMP:20260424T063127Z
UID:30524
DTSTART:20260531T070000
DTEND:20260531T110000
CLASS:PUBLIC
CREATED:20260423T214604
DESCRIPTION:La 35ème Randonnée VTT "La Crêchoise" à Crêches-sur-Saône
LAST-MODIFIED:20260423T220944
LOCATION:Crêches-sur-Saône
ORGANIZER;CN=Comité Cycliste Crêchois:mailto:71680ccc@gmail.com
SEQUENCE:1777012287
STATUS:CONFIRMED
SUMMARY:La 35ème Randonnée VTT "La Crêchoise" à Crêches-sur-Saône
URL;VALUE=URI:https://vetete.com//la-35eme-randonnee-vtt-la-crechoise-a-cre
 ches-sur-saone-le-dimanche-31-mai-2026
END:VEVENT
END:VCALENDAR
