BEGIN:VCALENDAR
VERSION:2.0
PRODID:icalendar-ruby
CALSCALE:GREGORIAN
METHOD:PUBLISH
METHOD:REQUEST
BEGIN:VEVENT
DTSTAMP:20260421T070611Z
UID:30411
DTSTART:20260501T073000
DTEND:20260501T113000
CLASS:PUBLIC
CREATED:20260323T225916
DESCRIPTION:La 42ème Randonnée du Muguet à Boissy-aux-Cailles
LAST-MODIFIED:20260420T233203
LOCATION:Boissy-aux-Cailles
ORGANIZER;CN=Club Cyclotouriste Boissy Aux Cailles:mailto:contacts@cyclo-bo
 issy-77.fr
SEQUENCE:1776755171
STATUS:CONFIRMED
SUMMARY:La 42ème Randonnée du Muguet à Boissy-aux-Cailles
URL;VALUE=URI:https://vetete.com//la-42eme-randonnee-du-muguet-a-boissy-aux
 -cailles-le-vendredi-1er-mai-2026
END:VEVENT
END:VCALENDAR
