BEGIN:VCALENDAR
VERSION:2.0
PRODID:icalendar-ruby
CALSCALE:GREGORIAN
METHOD:PUBLISH
METHOD:REQUEST
BEGIN:VEVENT
DTSTAMP:20260421T081033Z
UID:30490
DTSTART:20260912T193000
DTEND:20260912T233000
CLASS:PUBLIC
CREATED:20260416T145439
DESCRIPTION:La 7ème nuit de la Salamandre à Azay-le-Rideau
LAST-MODIFIED:20260416T152846
LOCATION:Azay-le-Rideau
ORGANIZER;CN=La samandre VTT d'Azay le Rideau:mailto:lasalamandrevttazayler
 ideau@gmail.com
SEQUENCE:1776759033
STATUS:CONFIRMED
SUMMARY:La 7ème nuit de la Salamandre à Azay-le-Rideau
URL;VALUE=URI:https://vetete.com//la-7eme-nuit-de-la-salamandre-a-azay-le-r
 ideau-le-samedi-12-septembre-2026
END:VEVENT
END:VCALENDAR
