BEGIN:VCALENDAR
VERSION:2.0
PRODID:icalendar-ruby
CALSCALE:GREGORIAN
METHOD:PUBLISH
METHOD:REQUEST
BEGIN:VEVENT
DTSTAMP:20260423T082420Z
UID:30490
DTSTART:20260919T193000
DTEND:20260919T233000
CLASS:PUBLIC
CREATED:20260416T145439
DESCRIPTION:La 8ème nuit de la Salamandre à Azay-le-Rideau
LAST-MODIFIED:20260422T144819
LOCATION:Azay-le-Rideau
ORGANIZER;CN=La samandre VTT d'Azay le Rideau:mailto:lasalamandrevttazayler
 ideau@gmail.com
SEQUENCE:1776932660
STATUS:CONFIRMED
SUMMARY:La 8ème nuit de la Salamandre à Azay-le-Rideau
URL;VALUE=URI:https://vetete.com//la-8eme-nuit-de-la-salamandre-a-azay-le-r
 ideau-le-samedi-19-septembre-2026
END:VEVENT
END:VCALENDAR
