BEGIN:VCALENDAR
VERSION:2.0
PRODID:icalendar-ruby
CALSCALE:GREGORIAN
METHOD:PUBLISH
METHOD:REQUEST
BEGIN:VEVENT
DTSTAMP:20260421T070150Z
UID:30510
DTSTART:20260705T080000
DTEND:20260705T120000
CLASS:PUBLIC
CREATED:20260420T174753
DESCRIPTION:Le 13ème Raid des Fléchettes 13ème éditions à Hasnon
LAST-MODIFIED:20260420T181314
LOCATION:Hasnon
ORGANIZER;CN=Team Hasnon VTT:mailto:teamhasnon@gmail.com
SEQUENCE:1776754910
STATUS:CONFIRMED
SUMMARY:Le 13ème Raid des Fléchettes 13ème éditions à Hasnon
URL;VALUE=URI:https://vetete.com//le-13eme-raid-des-flechettes-13eme-editio
 ns-a-hasnon-le-dimanche-5-juillet-2026
END:VEVENT
END:VCALENDAR
