BEGIN:VCALENDAR
VERSION:2.0
PRODID:icalendar-ruby
CALSCALE:GREGORIAN
METHOD:PUBLISH
METHOD:REQUEST
BEGIN:VEVENT
DTSTAMP:20260421T080300Z
UID:30516
DTSTART:20260517T080000
DTEND:20260517T120000
CLASS:PUBLIC
CREATED:20260420T233159
DESCRIPTION:Le 15ème Sanglier Bullionnais à Bullion
LAST-MODIFIED:20260420T234630
LOCATION:Bullion
ORGANIZER;CN=CSL (Comité Sports et Loisirs):mailto:csl.bullion@gmail.com
SEQUENCE:1776758580
STATUS:CONFIRMED
SUMMARY:Le 15ème Sanglier Bullionnais à Bullion
URL;VALUE=URI:https://vetete.com//le-15eme-sanglier-bullionnais-a-bullion-l
 e-dimanche-17-mai-2026
END:VEVENT
END:VCALENDAR
