BEGIN:VCALENDAR
VERSION:2.0
PRODID:icalendar-ruby
CALSCALE:GREGORIAN
METHOD:PUBLISH
METHOD:REQUEST
BEGIN:VEVENT
DTSTAMP:20260423T082720Z
UID:30520
DTSTART:20260516T063000
DTEND:20260516T103000
CLASS:PUBLIC
CREATED:20260422T184204
DESCRIPTION:RAID IN ARDECHE - ALBA - 9EME EDITION VTT (9ème édition) à A
 lba-la-Romaine
LAST-MODIFIED:20260422T185436
LOCATION:Alba-la-Romaine
ORGANIZER;CN=Association Raid In Ardeche:mailto:raidinardeche@gmail.com
SEQUENCE:1776932840
STATUS:CONFIRMED
SUMMARY:RAID IN ARDECHE - ALBA - 9EME EDITION VTT (9ème édition) à Alba-
 la-Romaine
URL;VALUE=URI:https://vetete.com//raid-in-ardeche-alba-9eme-edition-vtt-9em
 e-edition-a-alba-la-romaine-le-samedi-16-mai-2026
END:VEVENT
END:VCALENDAR
