BEGIN:VCALENDAR
VERSION:2.0
PRODID:icalendar-ruby
CALSCALE:GREGORIAN
METHOD:PUBLISH
METHOD:REQUEST
BEGIN:VEVENT
DTSTAMP:20260421T070857Z
UID:30509
DTSTART:20260920T073000
DTEND:20260920T113000
CLASS:PUBLIC
CREATED:20260420T133714
DESCRIPTION:Romenay Rand (VTT et PEDESTRE) (15ème édition) à Romenay
LAST-MODIFIED:20260420T134037
LOCATION:Romenay
ORGANIZER;CN=Comité des fêtes de Romenay:mailto:comitedesfete.romenay@gma
 il.com
SEQUENCE:1776755337
STATUS:CONFIRMED
SUMMARY:Romenay Rand (VTT et PEDESTRE) (15ème édition) à Romenay
URL;VALUE=URI:https://vetete.com//romenay-rand-vtt-et-pedestre-15eme-editio
 n-a-romenay-le-dimanche-20-septembre-2026
END:VEVENT
END:VCALENDAR
