BEGIN:VCALENDAR
VERSION:2.0
PRODID:icalendar-ruby
CALSCALE:GREGORIAN
METHOD:PUBLISH
METHOD:REQUEST
BEGIN:VEVENT
DTSTAMP:20260420T062237Z
UID:30505
DTSTART:20260607T073000
DTEND:20260607T113000
CLASS:PUBLIC
CREATED:20260419T214047
DESCRIPTION:Ronde du Vairais (29ème édition) à Saint-Cosme-en-Vairais
LAST-MODIFIED:20260419T215149
LOCATION:Saint-Cosme-en-Vairais
ORGANIZER;CN=Club des chemins de vair:mailto:clubdescheminsdevair@hotmail.f
 r
SEQUENCE:1776666157
STATUS:CONFIRMED
SUMMARY:Ronde du Vairais (29ème édition) à Saint-Cosme-en-Vairais
URL;VALUE=URI:https://vetete.com//ronde-du-vairais-29eme-edition-a-saint-co
 sme-en-vairais-le-dimanche-7-juin-2026
END:VEVENT
END:VCALENDAR
