BEGIN:VCALENDAR
VERSION:2.0
PRODID:icalendar-ruby
CALSCALE:GREGORIAN
METHOD:PUBLISH
METHOD:REQUEST
BEGIN:VEVENT
DTSTAMP:20260421T074436Z
UID:30124
DTSTART:20260619T210000
DTEND:20260620T010000
CLASS:PUBLIC
CREATED:20251229T091919
DESCRIPTION:Sivens By Night Rando VTT & Pédestre/Trail Semi-nocturne (4èm
 e édition) à Lisle-sur-Tarn
LAST-MODIFIED:20260420T233639
LOCATION:Lisle-sur-Tarn
ORGANIZER;CN=Les Amis de Sivens:mailto:laforestieredesivens@gmail.com
SEQUENCE:1776757476
STATUS:CONFIRMED
SUMMARY:Sivens By Night Rando VTT & Pédestre/Trail Semi-nocturne (4ème é
 dition) à Lisle-sur-Tarn
URL;VALUE=URI:https://vetete.com//sivens-by-night-rando-vtt-pedestre-trail-
 semi-nocturne-4eme-edition-a-lisle-sur-tarn-le-vendredi-19-juin-2026
END:VEVENT
END:VCALENDAR
