BEGIN:VCALENDAR
VERSION:2.0
PRODID:icalendar-ruby
CALSCALE:GREGORIAN
METHOD:PUBLISH
METHOD:REQUEST
BEGIN:VEVENT
DTSTAMP:20260422T082444Z
UID:30518
DTSTART:20260531T073000
DTEND:20260531T113000
CLASS:PUBLIC
CREATED:20260421T221606
DESCRIPTION:Sur les traces du Lion (12ème édition) à Voujeaucourt
LAST-MODIFIED:20260421T225933
LOCATION:Voujeaucourt
ORGANIZER;CN=Association Sportive et Culturelle des Automobiles Peugeot:mai
 lto:sltdl@ascap25.com
SEQUENCE:1776846284
STATUS:CONFIRMED
SUMMARY:Sur les traces du Lion (12ème édition) à Voujeaucourt
URL;VALUE=URI:https://vetete.com//sur-les-traces-du-lion-12eme-edition-a-vo
 ujeaucourt-le-dimanche-31-mai-2026
END:VEVENT
END:VCALENDAR
