BEGIN:VCALENDAR
VERSION:2.0
PRODID:icalendar-ruby
CALSCALE:GREGORIAN
METHOD:PUBLISH
METHOD:REQUEST
BEGIN:VEVENT
DTSTAMP:20260421T071316Z
UID:30515
DTSTART:20260530T140000
DTEND:20260530T180000
CLASS:PUBLIC
CREATED:20260420T232920
DESCRIPTION:Une randonnée VTT APE école Notre Dame 25 et 37km (1ère édi
 tion) à Cazes-Mondenard
LAST-MODIFIED:20260420T235418
LOCATION:Cazes-Mondenard
ORGANIZER;CN=APE école notre dame :mailto:notre-dame.ec@orange.fr
SEQUENCE:1776755596
STATUS:CONFIRMED
SUMMARY:Une randonnée VTT APE école Notre Dame 25 et 37km (1ère édition
 ) à Cazes-Mondenard
URL;VALUE=URI:https://vetete.com//une-randonnee-vtt-ape-ecole-notre-dame-25
 -et-37km-1ere-edition-a-cazes-mondenard-le-samedi-30-mai-2026
END:VEVENT
END:VCALENDAR
