BEGIN:VCALENDAR
VERSION:2.0
PRODID:icalendar-ruby
CALSCALE:GREGORIAN
METHOD:PUBLISH
METHOD:REQUEST
BEGIN:VEVENT
DTSTAMP:20260424T063444Z
UID:30522
DTSTART:20260705T080000
DTEND:20260705T120000
CLASS:PUBLIC
CREATED:20260423T141818
DESCRIPTION:Une randonnée VTT L’inversaire (3ème édition) à Saint-Fra
 nçois-Longchamp
LAST-MODIFIED:20260423T143051
LOCATION:Saint-François-Longchamp
ORGANIZER;CN=Club des sports de Saint François Longchamp:mailto:pierrot-ra
 voire@wanadoo.fr
SEQUENCE:1777012484
STATUS:CONFIRMED
SUMMARY:Une randonnée VTT L’inversaire (3ème édition) à Saint-Franço
 is-Longchamp
URL;VALUE=URI:https://vetete.com//une-randonnee-vtt-l-inversaire-3eme-editi
 on-a-saint-francois-longchamp-le-dimanche-5-juillet-2026
END:VEVENT
END:VCALENDAR
